BEGIN:VCALENDAR
VERSION:2.0
PRODID:-//Nebraska FFA Association - ECPv6.15.20//NONSGML v1.0//EN
CALSCALE:GREGORIAN
METHOD:PUBLISH
X-WR-CALNAME:Nebraska FFA Association
X-ORIGINAL-URL:https://neaged.org
X-WR-CALDESC:Events for Nebraska FFA Association
REFRESH-INTERVAL;VALUE=DURATION:PT1H
X-Robots-Tag:noindex
X-PUBLISHED-TTL:PT1H
BEGIN:VTIMEZONE
TZID:America/Chicago
BEGIN:DAYLIGHT
TZOFFSETFROM:-0600
TZOFFSETTO:-0500
TZNAME:CDT
DTSTART:20230312T080000
END:DAYLIGHT
BEGIN:STANDARD
TZOFFSETFROM:-0500
TZOFFSETTO:-0600
TZNAME:CST
DTSTART:20231105T070000
END:STANDARD
BEGIN:DAYLIGHT
TZOFFSETFROM:-0600
TZOFFSETTO:-0500
TZNAME:CDT
DTSTART:20240310T080000
END:DAYLIGHT
BEGIN:STANDARD
TZOFFSETFROM:-0500
TZOFFSETTO:-0600
TZNAME:CST
DTSTART:20241103T070000
END:STANDARD
BEGIN:DAYLIGHT
TZOFFSETFROM:-0600
TZOFFSETTO:-0500
TZNAME:CDT
DTSTART:20250309T080000
END:DAYLIGHT
BEGIN:STANDARD
TZOFFSETFROM:-0500
TZOFFSETTO:-0600
TZNAME:CST
DTSTART:20251102T070000
END:STANDARD
BEGIN:DAYLIGHT
TZOFFSETFROM:-0600
TZOFFSETTO:-0500
TZNAME:CDT
DTSTART:20260308T080000
END:DAYLIGHT
BEGIN:STANDARD
TZOFFSETFROM:-0500
TZOFFSETTO:-0600
TZNAME:CST
DTSTART:20261101T070000
END:STANDARD
END:VTIMEZONE
BEGIN:VEVENT
DTSTART;VALUE=DATE:20240701
DTEND;VALUE=DATE:20240703
DTSTAMP:20260421T041449
CREATED:20231019T142250Z
LAST-MODIFIED:20240326T214042Z
UID:10000132-1719792000-1719964799@neaged.org
SUMMARY:Engler Guide Conference
DESCRIPTION:An educator’s conference focused on teaching with a “Guiding” mindset. What happens when the Engler mission is applied to teachers? Is teaching much like entrepreneurship? Can the core concepts used in launching and running a business also apply to managing a classroom of students? \nTeaching is a purpose-driven profession. If you ask a teacher\, “Why do you teach?” be prepared to hear a heartfelt story that clearly conveys a passion for students. \nTeachers have the ability to change the trajectory of a student’s life simply by creating the right atmosphere for nurturing purpose. This is why Engler created a program for educators – Guide. \nAt Guide\, there is a track for first time Guides and a track for returning Guides. All educators are welcome\, so bring a friend! The cost to attend is $75 and this covers registration and meals. Hotel accommodations and travel expenses are not covered. You are able to use Perkins funding to help cover costs. To learn more about the conference and to register\, follow this link.
URL:https://neaged.org/event/engler-guide-conference/
LOCATION:Ord\, NE
CATEGORIES:Professional Development Opportunities,Teaching Methods & Classroom Management
ORGANIZER;CN="Ann Dvorak":MAILTO:aedvorak22@gmail.com
END:VEVENT
BEGIN:VEVENT
DTSTART;VALUE=DATE:20240708
DTEND;VALUE=DATE:20240718
DTSTAMP:20260421T041449
CREATED:20240202T211818Z
LAST-MODIFIED:20240202T212058Z
UID:10000165-1720396800-1721260799@neaged.org
SUMMARY:CASE Institute: Ag Equipment Maintenance and Technology (AEMT)
DESCRIPTION:This CASE Institute prepares students to enter the ag technician field through hands-on identification and cause and correction of equipment failures in electrical\, fluid\, diesel\, precision\, and mechanical systems. \nThis professional development cost covers all training materials\, supplies used at the institute\, lodging\, meals\, and snacks. You will also receive a year-long\, hands-on\, inquiry-based curriculum. \nAn online orientation will be held on June 27\, 4 pm CT \nEvent Start Date: 07/08/24 (Starts 5 days in-person\, 3 days virtual);  Event End Date:  07/17/24 \n  \nParticipant Lodging & Meals \nCheck-In: 07/07/24             Check-out: 07/12/24            Lodging Location: Dormitory \nDescription: Dorm\, apartment-style (individual rooms with shared bathroom) \nLunch & Dinner: Participants receive lunch and dinner from the host daily during the in-person component.
URL:https://neaged.org/event/case-institute-ag-equipment-maintenance-and-technology-aemt/
LOCATION:Nebraska College of Technical Agriculture\, 404 E 7th St\, Curtis\, Nebraska\, 69025
CATEGORIES:Power, Structural and Technical Systems,Professional Development Opportunities
ORGANIZER;CN="Jennifer McConville":MAILTO:jrittenhouse@unl.edu
END:VEVENT
BEGIN:VEVENT
DTSTART;VALUE=DATE:20240710
DTEND;VALUE=DATE:20240713
DTSTAMP:20260421T041449
CREATED:20240112T211113Z
LAST-MODIFIED:20240112T211152Z
UID:10000154-1720569600-1720828799@neaged.org
SUMMARY:Increasing Ag Productivity through Prototyping Design (CNC Plasma\, 3-D Printing\, Laser Cutting\, and Testing)
DESCRIPTION:ALEC 893 Short Course in Technical Agriculture: Increasing Ag Productivity through Prototyping Design (CNC Plasma\, 3-D Printing\, Laser Cutting\, and Testing) \nREGISTER HERE: https://forms.gle/5LrzbdZfzs2h77Vj8\nWe will focus primarily in 2-D design on plasma and laser printers with the majority of the time devoted to designing in Open source or reduced-cost programs like Inkscape\, Light Burn\, and Torchmate CAD. 3-D design will focus on Tinker CAD\, a fun\, free\, and easy way to teach and learn the basics of 3-D design. This course is intended for those just starting on or thinking about starting the design journey. Cost $50 (materials) \nJuly 10-12\, UNL-Panhandle Research\, Extension\, & Education Center\, Scottsbluff NE \nPlease reach out directly to Dr. Troy White if you have any questions about this ALEC 893 Short Course in Technical Agriculture. Please follow this link for directions on enrolling for graduate credit. https://docs.google.com/document/d/1uRBJFhxLoBQak_WxMS6rKBbc3jg58w6qX6QOR01GXDU \nCourse fees ($50 for materials) are separate from graduate credit fees.
URL:https://neaged.org/event/increasing-ag-productivity-through-prototyping-design-cnc-plasma-3-d-printing-laser-cutting-and-testing/
LOCATION:Scottsbluff Research Station\, 4502 Ave I\, Scottsbluff\, NE\, 69361
CATEGORIES:Professional Development Opportunities,Technology
ORGANIZER;CN="Dr. Troy White":MAILTO:troy.white@unl.edu
END:VEVENT
BEGIN:VEVENT
DTSTART;VALUE=DATE:20240717
DTEND;VALUE=DATE:20240720
DTSTAMP:20260421T041449
CREATED:20240112T212344Z
LAST-MODIFIED:20240112T212344Z
UID:10000157-1721174400-1721433599@neaged.org
SUMMARY:Small Gas Engines Fundamentals
DESCRIPTION:ALEC 893 Short Course in Technical Agriculture: Small Gas Engines Fundamentals –This class will be nearly identical to the Briggs & Stratton Field school courses offered in previous years. Teachers will get the curriculum\, but not the textbook\, clear carb\, spark tester\, or meals. By offering this course as unaffiliated with Briggs & Stratton/Power Distributors\, we are able to reduce the cost of the class to $30. The class will include the entire Briggs syllabus as well as some additional training on their “antique L-Head engines. \nThis class will be nearly identical to the Briggs & Stratton field school with the exception that you will not get their giveaways (textbooks\, clear carbs\, feeler gages\, etc.) or meals. Which allows us to offer it for $30 instead of $600. \nJuly 17-19\, UNL-Panhandle Research\, Extension\, & Education Center\, Scottsbluff NE \nPlease reach out directly to Dr. Troy White if you have any questions about this ALEC 893 Short Course in Technical Agriculture. Please follow this link for directions on enrolling for graduate credit. https://docs.google.com/document/d/1uRBJFhxLoBQak_WxMS6rKBbc3jg58w6qX6QOR01GXDU \nCourse fees ($30 for materials) are separate from graduate credit fees. \nREGISTER HERE: https://forms.gle/8Jnb7P31QgMW4xA87
URL:https://neaged.org/event/small-gas-engines-fundamentals/
LOCATION:Panhandle Research Station\, 4502 Ave I\, Scottsbluff\, NE\, 69361
CATEGORIES:Power, Structural and Technical Systems,Professional Development Opportunities
ORGANIZER;CN="Dr. Troy White":MAILTO:troy.white@unl.edu
END:VEVENT
BEGIN:VEVENT
DTSTART;VALUE=DATE:20240722
DTEND;VALUE=DATE:20240723
DTSTAMP:20260421T041449
CREATED:20240429T172733Z
LAST-MODIFIED:20240429T172733Z
UID:10000177-1721606400-1721692799@neaged.org
SUMMARY:Ag Teachers & FFA Officers Tech Day
DESCRIPTION:Enhance your tech skills to support your Ag program and FFA Chapter\, through: \n\nIncrease engagement with Canva and Ed Tech Tools\nOptimize technology capabilities to provide dynamic experiences\nCollaborate with Supported Chapter Planning Time\n\nRegistration of $10/person includes lunch.  More information here.
URL:https://neaged.org/event/ag-teachers-ffa-officers-tech-day/
LOCATION:ESU 8\, 110 West 3rd St\, Neligh\, NE\, 68756
CATEGORIES:CDE/SAE/FFA,Professional Development Opportunities,Technology
ORGANIZER;CN="Jaci Palmer":MAILTO:jaci.palmer@esu8ne.org
END:VEVENT
BEGIN:VEVENT
DTSTART;VALUE=DATE:20240723
DTEND;VALUE=DATE:20240726
DTSTAMP:20260421T041449
CREATED:20240117T222958Z
LAST-MODIFIED:20240117T224009Z
UID:10000162-1721692800-1721951999@neaged.org
SUMMARY:Automation in the Heartland I--Arduinos
DESCRIPTION:Year one of a two year workshop. We will cover Arduino micro-controllers\, basic circuits\, basic CAD\, the engineering process\, and designing with Laser\, and 3-D printers for ag applications\, and fun physics applications using the Arduino. Teachers will receive a $600 stipend for completing the workshop and over $600 in equipment to take back to their schools and have access to check out 3-D printers for their students to use. Travel stipends\, hotel rooms and meals are all included. Grad credit is available at an additional cost. This course is limited in the number of participants\, so sign up early. \nRegister at: https://forms.gle/T6m35kc1q2ePi1vo7
URL:https://neaged.org/event/automation-in-the-heartland-i-arduinos/
LOCATION:Scottsbluff Research Station\, 4502 Ave I\, Scottsbluff\, NE\, 69361
CATEGORIES:Power, Structural and Technical Systems,Professional Development Opportunities
ORGANIZER;CN="Dr. Troy White":MAILTO:troy.white@unl.edu
END:VEVENT
BEGIN:VEVENT
DTSTART;TZID=America/Chicago:20240725T090000
DTEND;TZID=America/Chicago:20240725T090000
DTSTAMP:20260421T041449
CREATED:20240425T170533Z
LAST-MODIFIED:20240425T170755Z
UID:10000176-1721898000-1721898000@neaged.org
SUMMARY:Citizen Science and Environmental Education Showcase: Empowering Youth\, Inspiring Civic Action
DESCRIPTION:Join us as 25 distinguished educators from around Nebraska present their innovative methods for guiding students to understand the impact of water quality on public health\, environmental issues on local communities\, and pathways for active youth civic engagement. Additionally\, 25 public health scientists and community organizers will showcase initiatives promoting environmental awareness and fostering active youth citizenship. The showcases will feature a variety of materials\, including curriculum resources\, student projects\, teacher testimonials\, and data illustrating project impact.\nScientists and public health officials will also provide insights into the scale of how environmental factors impact Nebraskans’ health. \n● 7:30 am to 9:00 am Check-in\n● 9:00 am to 9:30 am Introduction and Description of Events\n● 9:30 am to 12:30 pm Educator Showcase\n● 12:30 pm to 2:30 pm Lunch\n● 2:30 pm to 4:30 pm Community Showcase\n● 4:30 pm to 5:00 pm Final Reflections
URL:https://neaged.org/event/citizen-science-and-environmental-education-showcase-empowering-youth-inspiring-civic-action/
LOCATION:Carolyn Pope Edwards Hall\, 840 N 14th St\, Lincoln\, NE\, 68588
CATEGORIES:Environmental and Natural Resources,Professional Development Opportunities
ORGANIZER;CN="Taylor Hamblin":MAILTO:thamblin2@unl.edu
END:VEVENT
BEGIN:VEVENT
DTSTART;VALUE=DATE:20240729
DTEND;VALUE=DATE:20240801
DTSTAMP:20260421T041449
CREATED:20240112T212027Z
LAST-MODIFIED:20240117T224611Z
UID:10000156-1722211200-1722470399@neaged.org
SUMMARY:Basic Laboratory Safety & Skill Development
DESCRIPTION:ALEC 893 Short Course in Technical Agriculture: Basic Powertool & Shop Safety \nThis course will focus on all things safety. We will be using the MN CTE Safety curriculum to cover the safe and efficient usage of woods and metal power tools. Teachers will leave with the complete safety manual\, teacher key\, and a simple project to help teach these safety skills. Cost $30 (materials) \nJuly 29-31\, UNL-Panhandle Research\, Extension\, & Education Center\, Scottsbluff NE \nPlease reach out directly to Dr. Troy White if you have any questions about this ALEC 893 Short Course in Technical Agriculture. Please follow this link for directions on enrolling for graduate credit. https://docs.google.com/document/d/1uRBJFhxLoBQak_WxMS6rKBbc3jg58w6qX6QOR01GXDU \nCourse fees ($30 for materials) are separate from graduate credit fees.
URL:https://neaged.org/event/basic-laboratory-safety-skill-development/
LOCATION:Panhandle Research Station\, 4502 Ave I\, Scottsbluff\, NE\, 69361
CATEGORIES:Power, Structural and Technical Systems,Professional Development Opportunities
ORGANIZER;CN="Dr. Troy White":MAILTO:troy.white@unl.edu
END:VEVENT
BEGIN:VEVENT
DTSTART;VALUE=DATE:20240729
DTEND;VALUE=DATE:20240803
DTSTAMP:20260421T041449
CREATED:20240130T133348Z
LAST-MODIFIED:20240130T134027Z
UID:10000163-1722211200-1722643199@neaged.org
SUMMARY:Agriscience Metaverse Academy (AMA)
DESCRIPTION:The AMA is a Virtual Reality Training Program to Bring Immersive Agricultural Experiences into the Classroom!  A one-year\, USDA NIFA-funded professional development program will help teachers improve their knowledge of virtual reality (VR) technology and Metaverse applications\, for educational settings.  Agriculture teachers in Nebraska and Tennessee with at least one year of teaching experience by June 2024 who will be teaching agriculture courses at the middle school or high school levels during the 2024-2025 school year are eligible to apply.  Participating teachers must have suitable Wi-Fi access in their classrooms (at least 25 Mbps download speed). \nParticipating teachers will attend a five-day in-person professional development workshop focused on implementing Immersive Agricultural Experiences into the classes they teach. Additionally\, three Metaverse-based training and support meetings will hosted for participants throughout the year\, which will be accessed via virtual reality headsets provided as part of the program. \nParticipating teachers can receive up to $700 in stipends to support time and active participation.  Each teacher will receive a Virtual Reality Lab Kit for their school consisting of 11 MetaQuest 2 VR headsets and a 360º GoPro camera that they will be able to keep after completion of the program.  The project will cover travel expenses and lodging for the five-day professional development. \nTo apply for participation in the professional development and research study\, complete the application at this link: https://forms.gle/Njh8BNEwPJ1n1MYA6
URL:https://neaged.org/event/agriscience-metaverse-academy-ama/
LOCATION:Univeristy of Nebraska – Lincoln
CATEGORIES:Professional Development Opportunities,Technology
ORGANIZER;CN="Nathan Connor":MAILTO:nconner2@unl.edu
END:VEVENT
BEGIN:VEVENT
DTSTART;VALUE=DATE:20240730
DTEND;VALUE=DATE:20240801
DTSTAMP:20260421T041449
CREATED:20240508T000731Z
LAST-MODIFIED:20240508T001135Z
UID:10000180-1722297600-1722470399@neaged.org
SUMMARY:NPPD STEM Professional Development Teachers Workshop
DESCRIPTION:Each school gets to take home a STEM kit of their choice*\nOne and a half days of hands-on activities\nTour of the NECC Campus\n\nRegistration Deadline is May 31st\, 2024 \nOpen to all teachers K-12. Space limited. \nSupper will be provided on the 30th and lunch provided on the 31st.  Lodging will also be provided if needed. \nContact Kim Liebig at kkliebi@nppd.com with any questions.\nIf you receive a spot\, more details will be sent your way. Thank you! \nSTEAM Workshop – flyer 
URL:https://neaged.org/event/nppd-stem-professional-development-teachers-workshop/
LOCATION:Northeast Community College\, 801 East Benjamin Ave\, Norfolk\, NE\, 68701
CATEGORIES:Power, Structural and Technical Systems,Professional Development Opportunities
END:VEVENT
BEGIN:VEVENT
DTSTART;VALUE=DATE:20240801
DTEND;VALUE=DATE:20240802
DTSTAMP:20260421T041449
CREATED:20240612T164521Z
LAST-MODIFIED:20240612T164521Z
UID:10000181-1722470400-1722556799@neaged.org
SUMMARY:New Membership Year Opens
DESCRIPTION:New membership year opens. If your chapter is interested in Affiliated Membership\, request that in FFA.org before adding any members to your chapter roster.
URL:https://neaged.org/event/new-membership-year-opens/
END:VEVENT
BEGIN:VEVENT
DTSTART;VALUE=DATE:20240805
DTEND;VALUE=DATE:20240806
DTSTAMP:20260421T041449
CREATED:20240612T164624Z
LAST-MODIFIED:20240612T164624Z
UID:10000182-1722816000-1722902399@neaged.org
SUMMARY:Membership for State Fair Opens
DESCRIPTION:*Note: If a current FFA member is on the 2023-2024 FFA roster\, that individual does NOT need to be early added to next year’s roster prior to exhibiting at the 2024 Fair. Any incoming new member\, including 7th and 8th grade members\, MUST be early added to the 2024-25 chapter roster between August 5-15\, 2024 in order to exhibit. Incoming 6th graders are NOT allowed to exhibit in the FFA division of Nebraska State Fair.
URL:https://neaged.org/event/membership-for-state-fair-opens/
END:VEVENT
BEGIN:VEVENT
DTSTART;TZID=America/Chicago:20240810T200000
DTEND;TZID=America/Chicago:20240810T200000
DTSTAMP:20260421T041449
CREATED:20240612T164725Z
LAST-MODIFIED:20240612T164725Z
UID:10000183-1723320000-1723320000@neaged.org
SUMMARY:State Fair Livestock\, Poultry\, Rabbits Entries Due
DESCRIPTION:
URL:https://neaged.org/event/state-fair-livestock-poultry-rabbits-entries-due/
END:VEVENT
BEGIN:VEVENT
DTSTART;VALUE=DATE:20240815
DTEND;VALUE=DATE:20240816
DTSTAMP:20260421T041449
CREATED:20240612T164811Z
LAST-MODIFIED:20240612T164811Z
UID:10000184-1723680000-1723766399@neaged.org
SUMMARY:Membership for State Fair Due
DESCRIPTION:*Note: Do not send in payment for these members. Pay membership dues with all of the other membership dues by November 30\, 2024.
URL:https://neaged.org/event/membership-for-state-fair-due-2/
END:VEVENT
BEGIN:VEVENT
DTSTART;VALUE=DATE:20240819
DTEND;VALUE=DATE:20240820
DTSTAMP:20260421T041449
CREATED:20240612T164840Z
LAST-MODIFIED:20240612T164840Z
UID:10000185-1724025600-1724111999@neaged.org
SUMMARY:Chapter in Good Standing Information out to Advisors Governor’s Award of Excellence (NIFA Grants) Open
DESCRIPTION:
URL:https://neaged.org/event/chapter-in-good-standing-information-out-to-advisors-governors-award-of-excellence-nifa-grants-open/
END:VEVENT
BEGIN:VEVENT
DTSTART;TZID=America/Chicago:20240821T200000
DTEND;TZID=America/Chicago:20240821T200000
DTSTAMP:20260421T041449
CREATED:20240612T164916Z
LAST-MODIFIED:20240612T164916Z
UID:10000186-1724270400-1724270400@neaged.org
SUMMARY:State Fair Static Exhibit Entries Due
DESCRIPTION:
URL:https://neaged.org/event/state-fair-static-exhibit-entries-due/
END:VEVENT
BEGIN:VEVENT
DTSTART;VALUE=DATE:20240828
DTEND;VALUE=DATE:20240829
DTSTAMP:20260421T041449
CREATED:20240612T165034Z
LAST-MODIFIED:20240612T165034Z
UID:10000188-1724803200-1724889599@neaged.org
SUMMARY:Launch!
DESCRIPTION:Kickoff Event in the Engler space on East Campus\, Lincoln (By Invitation Only)
URL:https://neaged.org/event/launch/
END:VEVENT
BEGIN:VEVENT
DTSTART;VALUE=DATE:20240830
DTEND;VALUE=DATE:20240903
DTSTAMP:20260421T041449
CREATED:20240612T164955Z
LAST-MODIFIED:20240612T164955Z
UID:10000187-1724976000-1725321599@neaged.org
SUMMARY:Nebraska State Fair - FFA Weekend
DESCRIPTION:State Dairy Judging Event August 31 \nState Milk Quality and Products Event August 31
URL:https://neaged.org/event/nebraska-state-fair-ffa-weekend-2/
END:VEVENT
BEGIN:VEVENT
DTSTART;VALUE=DATE:20240910
DTEND;VALUE=DATE:20240913
DTSTAMP:20260421T041449
CREATED:20240612T165331Z
LAST-MODIFIED:20240612T165331Z
UID:10000189-1725926400-1726185599@neaged.org
SUMMARY:Husker Harvest Days
DESCRIPTION:
URL:https://neaged.org/event/husker-harvest-days-2/
END:VEVENT
BEGIN:VEVENT
DTSTART;VALUE=DATE:20240924
DTEND;VALUE=DATE:20240926
DTSTAMP:20260421T041449
CREATED:20240612T165434Z
LAST-MODIFIED:20240708T152505Z
UID:10000190-1727136000-1727308799@neaged.org
SUMMARY:Ignite Leadership Conference
DESCRIPTION:September 24th and 25th \n ( locations Kearney and North Platte)
URL:https://neaged.org/event/young-member-leadership-conference/
END:VEVENT
BEGIN:VEVENT
DTSTART;VALUE=DATE:20240930
DTEND;VALUE=DATE:20241001
DTSTAMP:20260421T041449
CREATED:20240612T165504Z
LAST-MODIFIED:20240612T165504Z
UID:10000191-1727654400-1727740799@neaged.org
SUMMARY:Chapter in Good Standing Items Due Governor’s Award of Excellence (NIFA Grants) Due
DESCRIPTION:
URL:https://neaged.org/event/chapter-in-good-standing-items-due-governors-award-of-excellence-nifa-grants-due/
END:VEVENT
BEGIN:VEVENT
DTSTART;VALUE=DATE:20241023
DTEND;VALUE=DATE:20241027
DTSTAMP:20260421T041449
CREATED:20240612T165534Z
LAST-MODIFIED:20240612T165534Z
UID:10000192-1729641600-1729987199@neaged.org
SUMMARY:National FFA Convention
DESCRIPTION:
URL:https://neaged.org/event/national-ffa-convention-3/
END:VEVENT
BEGIN:VEVENT
DTSTART;VALUE=DATE:20241107
DTEND;VALUE=DATE:20241109
DTSTAMP:20260421T041449
CREATED:20240612T165602Z
LAST-MODIFIED:20240612T165602Z
UID:10000193-1730937600-1731110399@neaged.org
SUMMARY:Pathways to Careers Conference and Ag Ed Symposium
DESCRIPTION:
URL:https://neaged.org/event/pathways-to-careers-conference-and-ag-ed-symposium/
END:VEVENT
BEGIN:VEVENT
DTSTART;VALUE=DATE:20241115
DTEND;VALUE=DATE:20241116
DTSTAMP:20260421T041449
CREATED:20240612T165634Z
LAST-MODIFIED:20240612T165634Z
UID:10000194-1731628800-1731715199@neaged.org
SUMMARY:District Leadership Development Events
DESCRIPTION:Varies by District. Planning form due to the state office  2 weeks before the event.
URL:https://neaged.org/event/district-leadership-development-events/
END:VEVENT
BEGIN:VEVENT
DTSTART;VALUE=DATE:20241115
DTEND;VALUE=DATE:20241116
DTSTAMP:20260421T041449
CREATED:20240612T165657Z
LAST-MODIFIED:20240612T165657Z
UID:10000195-1731628800-1731715199@neaged.org
SUMMARY:Membership dues payments Due
DESCRIPTION:
URL:https://neaged.org/event/membership-dues-payments-due/
END:VEVENT
BEGIN:VEVENT
DTSTART;TZID=America/Chicago:20241122T090000
DTEND;TZID=America/Chicago:20241122T150000
DTSTAMP:20260421T041449
CREATED:20241004T143426Z
LAST-MODIFIED:20241004T143620Z
UID:10000221-1732266000-1732287600@neaged.org
SUMMARY:Fire Up: Ignite Your Potential
DESCRIPTION:Teacher Professional Development: Fire Up – Ignite Your Potential\nNovember 22\, 2024 @ 9 am – 3:00 pm Calling all teachers with 2-7 years of experience and more experienced teachers who feel they need to FIRE UP!! Emily Jackman and Colin Kubik present to you strategies to take care of themselves and have better mental health without losing productivity.Truth: We can only be of service to others\, excel in our professions\, and make a lasting impact if we prioritize our own well-being.\nImagine\, if you will\, a story of the Starving Baker. This baker was a master of his craft\, renowned for creating delectable pastries that delighted the palates of all who tasted them. However\, there was a problem that he couldn’t solve. He was so committed to his work that he often forgot to nourish himself properly. He worked tirelessly through the night\, neglecting sleep\, and surviving on the bare minimum of food and water. His bakery thrived\, but his health deteriorated. Eventually\, he found himself too weak to even bake\, let alone enjoy the fruits of his labor. He had sacrificed his well-being for his passion\, and the cost was too high. \n“Fire Up” is a wake-up call to rekindle the fire within you and fuel it with self-care and self-improvement. In this session\, we will explore the art of balancing work and life\, learning how to be more productive without sacrificing our physical and mental health. We will discuss the importance of self-awareness\, setting boundaries\, and embracing self-compassion. By the end of this session\, you will have the tools and knowledge to nurture yourself\, so you can continue to nurture and support others\, just like the Starving Baker learned the hard way. \nRegister one week prior to the event. Lunch is included. No cost for registration.
URL:https://neaged.org/event/fire-up-ignite-your-potential-6/
LOCATION:ESU 10\, 76 Plaza Blvd\, Kearney\, NE\, 68845
CATEGORIES:Professional Development Opportunities,Teaching Methods & Classroom Management
ORGANIZER;CN="Colin Kubik":MAILTO:colin.kubik@nsdtitans.org
END:VEVENT
BEGIN:VEVENT
DTSTART;VALUE=DATE:20241202
DTEND;VALUE=DATE:20241203
DTSTAMP:20260421T041449
CREATED:20240612T165725Z
LAST-MODIFIED:20240612T165725Z
UID:10000196-1733097600-1733183999@neaged.org
SUMMARY:State Convention Chorus Application Opens State Convention Talent Application Opens
DESCRIPTION:
URL:https://neaged.org/event/state-convention-chorus-application-opens-state-convention-talent-application-opens/
END:VEVENT
BEGIN:VEVENT
DTSTART;VALUE=DATE:20241204
DTEND;VALUE=DATE:20241205
DTSTAMP:20260421T041449
CREATED:20240612T165751Z
LAST-MODIFIED:20240612T165751Z
UID:10000197-1733270400-1733356799@neaged.org
SUMMARY:Launch!
DESCRIPTION:Winter Booster in the Engler space on East Campus\, Lincoln (By Invitation Only)
URL:https://neaged.org/event/launch-2/
END:VEVENT
BEGIN:VEVENT
DTSTART;VALUE=DATE:20241216
DTEND;VALUE=DATE:20241217
DTSTAMP:20260421T041449
CREATED:20240612T165819Z
LAST-MODIFIED:20240612T165819Z
UID:10000198-1734307200-1734393599@neaged.org
SUMMARY:State Convention Chorus Application and Instructor Recommendation Due
DESCRIPTION:
URL:https://neaged.org/event/state-convention-chorus-application-and-instructor-recommendation-due-2/
END:VEVENT
BEGIN:VEVENT
DTSTART;VALUE=DATE:20250117
DTEND;VALUE=DATE:20250119
DTSTAMP:20260421T041449
CREATED:20240612T165917Z
LAST-MODIFIED:20240612T165925Z
UID:10000200-1737072000-1737244799@neaged.org
SUMMARY:Nebraska FFA Alumni & Supporters Conference\, Lincoln
DESCRIPTION:
URL:https://neaged.org/event/nebraska-ffa-alumni-supporters-conference-lincoln/
END:VEVENT
END:VCALENDAR