BEGIN:VCALENDAR
VERSION:2.0
PRODID:-//Nebraska FFA Association - ECPv6.15.20//NONSGML v1.0//EN
CALSCALE:GREGORIAN
METHOD:PUBLISH
X-ORIGINAL-URL:https://neaged.org
X-WR-CALDESC:Events for Nebraska FFA Association
REFRESH-INTERVAL;VALUE=DURATION:PT1H
X-Robots-Tag:noindex
X-PUBLISHED-TTL:PT1H
BEGIN:VTIMEZONE
TZID:America/Chicago
BEGIN:DAYLIGHT
TZOFFSETFROM:-0600
TZOFFSETTO:-0500
TZNAME:CDT
DTSTART:20240310T080000
END:DAYLIGHT
BEGIN:STANDARD
TZOFFSETFROM:-0500
TZOFFSETTO:-0600
TZNAME:CST
DTSTART:20241103T070000
END:STANDARD
BEGIN:DAYLIGHT
TZOFFSETFROM:-0600
TZOFFSETTO:-0500
TZNAME:CDT
DTSTART:20250309T080000
END:DAYLIGHT
BEGIN:STANDARD
TZOFFSETFROM:-0500
TZOFFSETTO:-0600
TZNAME:CST
DTSTART:20251102T070000
END:STANDARD
BEGIN:DAYLIGHT
TZOFFSETFROM:-0600
TZOFFSETTO:-0500
TZNAME:CDT
DTSTART:20260308T080000
END:DAYLIGHT
BEGIN:STANDARD
TZOFFSETFROM:-0500
TZOFFSETTO:-0600
TZNAME:CST
DTSTART:20261101T070000
END:STANDARD
BEGIN:DAYLIGHT
TZOFFSETFROM:-0600
TZOFFSETTO:-0500
TZNAME:CDT
DTSTART:20270314T080000
END:DAYLIGHT
BEGIN:STANDARD
TZOFFSETFROM:-0500
TZOFFSETTO:-0600
TZNAME:CST
DTSTART:20271107T070000
END:STANDARD
END:VTIMEZONE
BEGIN:VEVENT
DTSTART;VALUE=DATE:20251029
DTEND;VALUE=DATE:20251102
DTSTAMP:20260424T050428
CREATED:20250730T144312Z
LAST-MODIFIED:20250730T144312Z
UID:10000260-1761696000-1762041599@neaged.org
SUMMARY:National FFA Convention
DESCRIPTION:
URL:https://neaged.org/event/national-ffa-convention-4/
END:VEVENT
BEGIN:VEVENT
DTSTART;VALUE=DATE:20251101
DTEND;VALUE=DATE:20251102
DTSTAMP:20260424T050428
CREATED:20250730T144417Z
LAST-MODIFIED:20250730T144417Z
UID:10000262-1761955200-1762041599@neaged.org
SUMMARY:District Leadership Development Events
DESCRIPTION:Varies by District. Planning form due to the state office  2 weeks before the event. 
URL:https://neaged.org/event/district-leadership-development-events-2/
END:VEVENT
BEGIN:VEVENT
DTSTART;VALUE=DATE:20251107
DTEND;VALUE=DATE:20251108
DTSTAMP:20260424T050428
CREATED:20250730T144339Z
LAST-MODIFIED:20250730T144339Z
UID:10000261-1762473600-1762559999@neaged.org
SUMMARY:Pathways to Careers Conference and Ag Ed Symposium
DESCRIPTION:Kearney\, Younes North
URL:https://neaged.org/event/pathways-to-careers-conference-and-ag-ed-symposium-2/
END:VEVENT
BEGIN:VEVENT
DTSTART;VALUE=DATE:20251114
DTEND;VALUE=DATE:20251115
DTSTAMP:20260424T050428
CREATED:20250730T144437Z
LAST-MODIFIED:20250730T144437Z
UID:10000263-1763078400-1763164799@neaged.org
SUMMARY:Membership dues payments Due
DESCRIPTION:
URL:https://neaged.org/event/membership-dues-payments-due-2/
END:VEVENT
BEGIN:VEVENT
DTSTART;VALUE=DATE:20251203
DTEND;VALUE=DATE:20251204
DTSTAMP:20260424T050428
CREATED:20250730T144459Z
LAST-MODIFIED:20250730T144459Z
UID:10000264-1764720000-1764806399@neaged.org
SUMMARY:State Convention Chorus Application Opens State Convention Talent Application Opens
DESCRIPTION:
URL:https://neaged.org/event/state-convention-chorus-application-opens-state-convention-talent-application-opens-2/
END:VEVENT
BEGIN:VEVENT
DTSTART;VALUE=DATE:20251217
DTEND;VALUE=DATE:20251218
DTSTAMP:20260424T050428
CREATED:20250730T144529Z
LAST-MODIFIED:20250730T144529Z
UID:10000265-1765929600-1766015999@neaged.org
SUMMARY:State Convention Chorus Application and Instructor Recommendation Due
DESCRIPTION:
URL:https://neaged.org/event/state-convention-chorus-application-and-instructor-recommendation-due-3/
END:VEVENT
BEGIN:VEVENT
DTSTART;VALUE=DATE:20260116
DTEND;VALUE=DATE:20260118
DTSTAMP:20260424T050428
CREATED:20250730T144552Z
LAST-MODIFIED:20250730T144552Z
UID:10000266-1768521600-1768694399@neaged.org
SUMMARY:Nebraska FFA Alumni & Supporters Conference\, Valentine
DESCRIPTION:
URL:https://neaged.org/event/nebraska-ffa-alumni-supporters-conference-valentine/
END:VEVENT
BEGIN:VEVENT
DTSTART;VALUE=DATE:20260121
DTEND;VALUE=DATE:20260122
DTSTAMP:20260424T050428
CREATED:20250730T144613Z
LAST-MODIFIED:20250730T144613Z
UID:10000267-1768953600-1769039999@neaged.org
SUMMARY:State Convention Talent Application Due
DESCRIPTION:
URL:https://neaged.org/event/state-convention-talent-application-due-3/
END:VEVENT
BEGIN:VEVENT
DTSTART;TZID=America/Chicago:20260128T190000
DTEND;TZID=America/Chicago:20260128T200000
DTSTAMP:20260424T050428
CREATED:20250730T144642Z
LAST-MODIFIED:20250730T144642Z
UID:10000268-1769626800-1769630400@neaged.org
SUMMARY:Optional State Officer Candidate Informational Zoom Meeting
DESCRIPTION:
URL:https://neaged.org/event/optional-state-officer-candidate-informational-zoom-meeting/
END:VEVENT
BEGIN:VEVENT
DTSTART;VALUE=DATE:20260202
DTEND;VALUE=DATE:20260203
DTSTAMP:20260424T050428
CREATED:20250730T144703Z
LAST-MODIFIED:20250730T144703Z
UID:10000269-1769990400-1770076799@neaged.org
SUMMARY:Delegate Items Submitted
DESCRIPTION:
URL:https://neaged.org/event/delegate-items-submitted/
END:VEVENT
BEGIN:VEVENT
DTSTART;TZID=America/Chicago:20260213T120000
DTEND;TZID=America/Chicago:20260213T120000
DTSTAMP:20260424T050428
CREATED:20250730T144747Z
LAST-MODIFIED:20250730T144747Z
UID:10000270-1770984000-1770984000@neaged.org
SUMMARY:FFA Applications Due
DESCRIPTION:State FFA Officer Applications Due \nState Advancing Proficiency Applications Due in AET \nState Proficiency Review Names submitted by FFA Board Reps \nState Agriscience Research Program Applications Due \nAg Issues Academy Applications Due \nState Degree List submitted in AET by FFA Board Reps \nState Advancing State Star Applications Due in AET \nState Competitor LDE Manuscripts and Employment Skills Documents Due
URL:https://neaged.org/event/ffa-applications-due/
END:VEVENT
BEGIN:VEVENT
DTSTART;VALUE=DATE:20260220
DTEND;VALUE=DATE:20260221
DTSTAMP:20260424T050428
CREATED:20250730T144823Z
LAST-MODIFIED:20250730T144823Z
UID:10000271-1771545600-1771631999@neaged.org
SUMMARY:State Review of Agriscience Research Program Applications and FFA Board Meeting
DESCRIPTION:Kearney
URL:https://neaged.org/event/state-review-of-agriscience-research-program-applications-and-ffa-board-meeting/
END:VEVENT
BEGIN:VEVENT
DTSTART;VALUE=DATE:20260221
DTEND;VALUE=DATE:20260222
DTSTAMP:20260424T050428
CREATED:20250730T144846Z
LAST-MODIFIED:20250730T144846Z
UID:10000272-1771632000-1771718399@neaged.org
SUMMARY:State Review Proficiency Applications
DESCRIPTION:Kearney
URL:https://neaged.org/event/state-review-proficiency-applications/
END:VEVENT
BEGIN:VEVENT
DTSTART;VALUE=DATE:20260222
DTEND;VALUE=DATE:20260301
DTSTAMP:20260424T050428
CREATED:20250730T144908Z
LAST-MODIFIED:20250730T144908Z
UID:10000273-1771718400-1772323199@neaged.org
SUMMARY:National FFA Week
DESCRIPTION:
URL:https://neaged.org/event/national-ffa-week-4/
END:VEVENT
BEGIN:VEVENT
DTSTART;TZID=America/Chicago:20260302T120000
DTEND;TZID=America/Chicago:20260302T120000
DTSTAMP:20260424T050428
CREATED:20250730T144952Z
LAST-MODIFIED:20260217T174155Z
UID:10000274-1772452800-1772452800@neaged.org
SUMMARY:Applications and Nominations DUE
DESCRIPTION:National Chapter Applications Due \nHonorary State Degree Nominations Due \nCornerstone Award Nominations Due \nNIFA Grant Recipients Summary Due \nBios due for Proficiency Finalists \nBios due for Star Finalists \nHall of Chapters Submission
URL:https://neaged.org/event/applications-and-nominations-due/
END:VEVENT
BEGIN:VEVENT
DTSTART;TZID=America/Chicago:20260303T120000
DTEND;TZID=America/Chicago:20260303T120000
DTSTAMP:20260424T050428
CREATED:20250730T145022Z
LAST-MODIFIED:20250730T145022Z
UID:10000275-1772539200-1772539200@neaged.org
SUMMARY:Phase 1 Convention Registration Opens at Noon Central
DESCRIPTION:
URL:https://neaged.org/event/phase-1-convention-registration-opens-at-noon-central/
END:VEVENT
BEGIN:VEVENT
DTSTART;TZID=America/Chicago:20260309T170000
DTEND;TZID=America/Chicago:20260309T170000
DTSTAMP:20260424T050428
CREATED:20250730T145053Z
LAST-MODIFIED:20250730T145053Z
UID:10000276-1773075600-1773075600@neaged.org
SUMMARY:Phase 1 Convention Registration Closes at 5:00 PM Central
DESCRIPTION:
URL:https://neaged.org/event/phase-1-convention-registration-closes-at-500-pm-central/
END:VEVENT
BEGIN:VEVENT
DTSTART;VALUE=DATE:20260311
DTEND;VALUE=DATE:20260314
DTSTAMP:20260424T050428
CREATED:20250730T145219Z
LAST-MODIFIED:20250730T145219Z
UID:10000279-1773187200-1773446399@neaged.org
SUMMARY:State FFA Officer Preliminary Interviews
DESCRIPTION:Kearney
URL:https://neaged.org/event/state-ffa-officer-preliminary-interviews-3/
END:VEVENT
BEGIN:VEVENT
DTSTART;TZID=America/Chicago:20260311T120000
DTEND;TZID=America/Chicago:20260311T120000
DTSTAMP:20260424T050428
CREATED:20250730T145127Z
LAST-MODIFIED:20250730T145127Z
UID:10000277-1773230400-1773230400@neaged.org
SUMMARY:Phase 2 Convention Registration Opens at Noon Central
DESCRIPTION:
URL:https://neaged.org/event/phase-2-convention-registration-opens-at-noon-central/
END:VEVENT
BEGIN:VEVENT
DTSTART;TZID=America/Chicago:20260313T120000
DTEND;TZID=America/Chicago:20260313T120000
DTSTAMP:20260424T050428
CREATED:20250730T145250Z
LAST-MODIFIED:20250730T145250Z
UID:10000280-1773403200-1773403200@neaged.org
SUMMARY:American Degrees Submitted in AET for National FFA Preliminary Review
DESCRIPTION:
URL:https://neaged.org/event/american-degrees-submitted-in-aet-for-national-ffa-preliminary-review-4/
END:VEVENT
BEGIN:VEVENT
DTSTART;TZID=America/Chicago:20260313T170000
DTEND;TZID=America/Chicago:20260313T170000
DTSTAMP:20260424T050428
CREATED:20250730T145150Z
LAST-MODIFIED:20250730T145150Z
UID:10000278-1773421200-1773421200@neaged.org
SUMMARY:Phase 2 Convention Registration Closes at 5:00 PM Central
DESCRIPTION:
URL:https://neaged.org/event/phase-2-convention-registration-closes-at-500-pm-central/
END:VEVENT
BEGIN:VEVENT
DTSTART;VALUE=DATE:20260325
DTEND;VALUE=DATE:20260328
DTSTAMP:20260424T050428
CREATED:20250730T145315Z
LAST-MODIFIED:20250730T145315Z
UID:10000281-1774396800-1774655999@neaged.org
SUMMARY:State FFA Convention
DESCRIPTION:
URL:https://neaged.org/event/state-ffa-convention-4/
END:VEVENT
BEGIN:VEVENT
DTSTART;TZID=America/Chicago:20260415T120000
DTEND;TZID=America/Chicago:20260415T120000
DTSTAMP:20260424T050428
CREATED:20250730T145342Z
LAST-MODIFIED:20250730T145342Z
UID:10000282-1776254400-1776254400@neaged.org
SUMMARY:COLT Registration Opens at Noon CST
DESCRIPTION:
URL:https://neaged.org/event/colt-registration-opens-at-noon-cst-2/
END:VEVENT
BEGIN:VEVENT
DTSTART;TZID=America/Chicago:20260430T235900
DTEND;TZID=America/Chicago:20260430T235900
DTSTAMP:20260424T050428
CREATED:20250730T145446Z
LAST-MODIFIED:20250730T145446Z
UID:10000283-1777593540-1777593540@neaged.org
SUMMARY:COLT Registration Closes  American Degree Applications Due American Star Applications Due
DESCRIPTION:
URL:https://neaged.org/event/colt-registration-closes-american-degree-applications-due-american-star-applications-due/
END:VEVENT
BEGIN:VEVENT
DTSTART;VALUE=DATE:20260518
DTEND;VALUE=DATE:20260519
DTSTAMP:20260424T050428
CREATED:20260121T172753Z
LAST-MODIFIED:20260121T172753Z
UID:10000331-1779062400-1779148799@neaged.org
SUMMARY:State Horse Judging
DESCRIPTION:
URL:https://neaged.org/event/state-horse-judging-3/
END:VEVENT
BEGIN:VEVENT
DTSTART;VALUE=DATE:20260521
DTEND;VALUE=DATE:20260523
DTSTAMP:20260424T050428
CREATED:20250730T145530Z
LAST-MODIFIED:20250730T145530Z
UID:10000284-1779321600-1779494399@neaged.org
SUMMARY:COLT Conference Session 1 May 21-22
DESCRIPTION:
URL:https://neaged.org/event/colt-conference-session-1-may-21-22/
END:VEVENT
BEGIN:VEVENT
DTSTART;VALUE=DATE:20260525
DTEND;VALUE=DATE:20260527
DTSTAMP:20260424T050428
CREATED:20250730T145613Z
LAST-MODIFIED:20250730T145613Z
UID:10000285-1779667200-1779839999@neaged.org
SUMMARY:COLT Conference Session 2 May 25-26
DESCRIPTION:
URL:https://neaged.org/event/colt-conference-session-2-may-25-26/
END:VEVENT
BEGIN:VEVENT
DTSTART;VALUE=DATE:20260527
DTEND;VALUE=DATE:20260529
DTSTAMP:20260424T050428
CREATED:20250730T145647Z
LAST-MODIFIED:20250730T145647Z
UID:10000286-1779840000-1780012799@neaged.org
SUMMARY:COLT Conference Session 3 May 27-28
DESCRIPTION:
URL:https://neaged.org/event/colt-conference-session-3-may-27-28/
END:VEVENT
BEGIN:VEVENT
DTSTART;VALUE=DATE:20260529
DTEND;VALUE=DATE:20260531
DTSTAMP:20260424T050428
CREATED:20250730T145713Z
LAST-MODIFIED:20250730T145713Z
UID:10000287-1780012800-1780185599@neaged.org
SUMMARY:COLT Conference Session 4 May 29-30
DESCRIPTION:
URL:https://neaged.org/event/colt-conference-session-4-may-29-30/
END:VEVENT
BEGIN:VEVENT
DTSTART;VALUE=DATE:20260605
DTEND;VALUE=DATE:20260606
DTSTAMP:20260424T050428
CREATED:20250730T145734Z
LAST-MODIFIED:20250730T145734Z
UID:10000288-1780617600-1780703999@neaged.org
SUMMARY:American Degree Edits Due
DESCRIPTION:
URL:https://neaged.org/event/american-degree-edits-due-4/
END:VEVENT
END:VCALENDAR