BEGIN:VCALENDAR
VERSION:2.0
PRODID:-//Nebraska FFA Association - ECPv6.15.20//NONSGML v1.0//EN
CALSCALE:GREGORIAN
METHOD:PUBLISH
X-ORIGINAL-URL:https://neaged.org
X-WR-CALDESC:Events for Nebraska FFA Association
REFRESH-INTERVAL;VALUE=DURATION:PT1H
X-Robots-Tag:noindex
X-PUBLISHED-TTL:PT1H
BEGIN:VTIMEZONE
TZID:America/Chicago
BEGIN:DAYLIGHT
TZOFFSETFROM:-0600
TZOFFSETTO:-0500
TZNAME:CDT
DTSTART:20230312T080000
END:DAYLIGHT
BEGIN:STANDARD
TZOFFSETFROM:-0500
TZOFFSETTO:-0600
TZNAME:CST
DTSTART:20231105T070000
END:STANDARD
BEGIN:DAYLIGHT
TZOFFSETFROM:-0600
TZOFFSETTO:-0500
TZNAME:CDT
DTSTART:20240310T080000
END:DAYLIGHT
BEGIN:STANDARD
TZOFFSETFROM:-0500
TZOFFSETTO:-0600
TZNAME:CST
DTSTART:20241103T070000
END:STANDARD
BEGIN:DAYLIGHT
TZOFFSETFROM:-0600
TZOFFSETTO:-0500
TZNAME:CDT
DTSTART:20250309T080000
END:DAYLIGHT
BEGIN:STANDARD
TZOFFSETFROM:-0500
TZOFFSETTO:-0600
TZNAME:CST
DTSTART:20251102T070000
END:STANDARD
END:VTIMEZONE
BEGIN:VEVENT
DTSTART;VALUE=DATE:20240410
DTEND;VALUE=DATE:20240411
DTSTAMP:20260421T042018
CREATED:20231218T202117Z
LAST-MODIFIED:20231218T204226Z
UID:10000150-1712707200-1712793599@neaged.org
SUMMARY:Cultivando Caminos (Cultivating Pathways)
DESCRIPTION:Cultivando Caminos (Cultivating Pathways) is a one-day conference for underrepresented high school students interested in careers in agriculture\, food\, water\, energy\, and natural resources. The conference is designed to encourage students to envision themselves in various agricultural careers and to connect them with college students\, faculty\, and staff. The event will be free to attend and will be held on UNL’s East Campus. \nProfessional development for teachers will take place while students are participating in the event.
URL:https://neaged.org/event/cultivando-caminos-cultivating-pathways/
LOCATION:University of NE-Lincoln\, Lincoln\, NE
CATEGORIES:Professional Development Opportunities,Teaching Methods & Classroom Management
END:VEVENT
END:VCALENDAR